BEGIN:VCALENDAR
VERSION:2.0
PRODID:-//wp-events-plugin.com//7.2.3.1//EN
TZID:Europe/Berlin
X-WR-TIMEZONE:Europe/Berlin
BEGIN:VEVENT
UID:33@shorinryu.org
DTSTART;TZID=Europe/Amsterdam:20250917T190000
DTEND;TZID=Europe/Amsterdam:20250917T213000
DTSTAMP:20250812T104145Z
URL:https://shorinryu.org/events/17-september-seminar-mit-takafumi-nakayam
 a-sensei/
SUMMARY:17. September Seminar met Takafumi Nakayama Sensei
DESCRIPTION:Uniek seminar met Takafumi Nakayama Sensei\, 7e dan Shorin-Ryu 
 Shidokan\,\ngeeft les in soft-blocks en Yamani-Ryu Kobudo.
CATEGORIES:physical
END:VEVENT
BEGIN:VTIMEZONE
TZID:Europe/Amsterdam
X-LIC-LOCATION:Europe/Amsterdam
BEGIN:DAYLIGHT
DTSTART:20250330T030000
TZOFFSETFROM:+0100
TZOFFSETTO:+0200
TZNAME:CEST
END:DAYLIGHT
END:VTIMEZONE
END:VCALENDAR