BEGIN:VCALENDAR
VERSION:2.0
PRODID:-//wp-events-plugin.com//7.2.3.1//EN
TZID:Europe/Berlin
X-WR-TIMEZONE:Europe/Berlin
BEGIN:VEVENT
UID:32@shorinryu.org
DTSTART;TZID=Europe/Berlin:20250919T190000
DTEND;TZID=Europe/Berlin:20250919T210000
DTSTAMP:20250812T104308Z
URL:https://shorinryu.org/events/19-09-2025-stage-avec-takafumi-nakayama-s
 ensei-a-partir-de-13-ans/
SUMMARY:19.09.2025 Stage avec Takafumi Nakayama Sensei (à partir de 13 ans
 )
DESCRIPTION:Für deutsch bitte runter scrollen\n\nAu programme: Soft-Blocks
 \nVendredi\, 19.09.2025\nHeure: 19h00 – 21h00 pour adolescents et adulte
 s (à partir de 13 ans)\nLieu: Centre Sportif Parc Hosingen\n\nÀ quoi t
 ’attendre?\nTakafumi Nakayama Sensei (7e Dan) présentera une ancienne m
 éthode de défense\, où blocage et frappe se font simultanément. Il nou
 s offrira ainsi un aperçu du monde du Shorin Ryu Karate.\nBon à savoir:\
 nAucune expérience préalable requise\nLe stage est ouvert à tous – qu
 el que soit le style ou l’art martial pratiqué.\nÀ apporter:\nKarate-G
 i ou tenue de sport confortable\nLangue:\nAnglais – Questions également
  possibles en allemand\, français ou luxembourgeois.\n\nFrais du stage\nT
 arif réduit: 30 EUR –à partir de 13 ans\nTarif normal: 35 EUR –à pa
 rtir de 13 ans\nEn cas de participation à plusieurs stages: merci de nous
  contacter à l’avance (voir contact).\n\nProcédure d’inscription:\nA
 près ton inscription\, nous t’enverrons une facture que tu pourras rég
 ler par virement\, PayPal ou en espèces. Seules les factures payées donn
 ent droit à la participation au stage.\n\nConditions d’annulation:\nJus
 qu’à 30 jours avant: remboursement de 50 %\nJusqu’à 14 jours avant: 
 remboursement de 25 %\nEnsuite: malheureusement aucun remboursement possib
 le\n\nContact: d.heinen1989@gmail.com\n\nOrganisateur:\nKarate Club Tanuki
  Hosingen\nAvec le soutien de: Kleiner Wald Karateschule Konz\n\nAuf dem P
 rogramm: Soft-Blocks\nFreitag\, 19.09.2025\nUhrzeit:19:00 – 21:00 Uhr f
 ür Jugendliche und Erwachsene (ab 13 Jahre)\nOrt: Centre Sportif Parc Hos
 ingen\n\nWas erwartet dich?\nTakafumi Nakayama Sensei (7. Dan) zeigt eine 
 alte Art der Verteidigung\, bei der Blocken und Schlagen gleichzeitig pass
 iert. Und gibt uns damit einen Einblick in die Welt des Shorin Ryu Karate.
 \n\nGut zu wissen:\nKeine Vorkenntnisse nötog\nDas Seminar ist offen für
  alle – egal welche Stilrichtung oder Kampfkunst.\nMitbringen:\nKarate-G
 i oder bequeme Sportkleidung\nSprache:\nEnglisch – Fragen auch auf Deuts
 ch\, Französisch oder Luxemburgisch möglich.\n\nSeminarkosten\nFrühbuch
 erpreis: 30 EUR -ab 13 Jahre\nRegulärer Preis: 35 EUR -ab 13 Jahre\nBeim 
 besuch mehrerer Seminare: bitte vorab melden (siehe Kontakt)\n\nBuchungsvo
 rgang:\nNach Deiner Anmeldung senden wir Dir eine Rechnung zu\, die Du per
  Überweisung\, PayPal oder in bar bezahlen kannst. Nur bezahlte Rechnunge
 n berechtigen zur Teilnahme an dem Seminar.\nStornierungsbedingungen:\nBis
  zu 30 Tage vorher: 50% Rückerstattung\nBis zu 14 Tage vorher: 25% Rücke
 rstattung\nDanach: leider keine Rückerstattung\n\nKontakt: d.heinen1989@g
 mail.com\n\nVeranstalter:\nKarate Club Tanuki Hosingen\nMit Unterstützung
  von: Kleiner Wald Karateschule Konz
CATEGORIES:physical
LOCATION:Centre scolaire et sportif „Parc Housen“\, 4b\, Parc \, Hosing
 en\,  L-9836\, Luxembourg
GEO:49.994111;6.098813
X-APPLE-STRUCTURED-LOCATION;VALUE=URI;X-ADDRESS=4b\, Parc \, Hosingen\,  
 L-9836\, Luxembourg;X-APPLE-RADIUS=100;X-TITLE=Centre scolaire et sportif 
 „Parc Housen“:geo:49.994111,6.098813
END:VEVENT
BEGIN:VTIMEZONE
TZID:Europe/Berlin
X-LIC-LOCATION:Europe/Berlin
BEGIN:DAYLIGHT
DTSTART:20250330T030000
TZOFFSETFROM:+0100
TZOFFSETTO:+0200
TZNAME:CEST
END:DAYLIGHT
END:VTIMEZONE
END:VCALENDAR