BEGIN:VCALENDAR
VERSION:2.0
PRODID:-//wp-events-plugin.com//7.2.3.1//EN
TZID:Europe/Berlin
X-WR-TIMEZONE:Europe/Berlin
BEGIN:VEVENT
UID:31@shorinryu.org
DTSTART;TZID=Europe/Berlin:20250919T180000
DTEND;TZID=Europe/Berlin:20250919T190000
DTSTAMP:20250812T104239Z
URL:https://shorinryu.org/events/19-09-2025-stage-avec-takafumi-nakayama-s
 ensei-jusqua-13-ans/
SUMMARY:19.09.2025 Stage avec Takafumi Nakayama Sensei (Enfants 8 - 13 ans)
DESCRIPTION:Für deutsch bitte runter scrollen\n\nAu programme: Soft-Blocks
 \nVendredi\, 19.09.2025\nHeure: 18h00 – 19h00 pour Enfants 8 - 13 ans\nL
 ieu: Centre Sportif Parc Hosingen\n\nÀ quoi t’attendre?\nTakafumi Nakay
 ama Sensei (7e Dan) présentera une ancienne méthode de défense\, où bl
 ocage et frappe se font simultanément. Il nous offrira ainsi un aperçu d
 u monde du Shorin Ryu Karate.\nBon à savoir:\nAucune expérience préalab
 le requise\nLe stage est ouvert à tous – quel que soit le style ou l’
 art martial pratiqué.\nÀ apporter:\nKarate-Gi ou tenue de sport conforta
 ble\nLangue:\nAnglais – Questions également possibles en allemand\, fra
 nçais ou luxembourgeois.\n\nFrais du stage\nTarif réduit: 10 EUR – pou
 r enfants et adolescents (jusqu’à 13 ans)\nTarif normal: 15 EUR – pou
 r enfants et adolescents (jusqu’à 13 ans) – à partir du 01.09.2025\n
 En cas de participation à plusieurs stages: merci de nous contacter à l
 ’avance (voir contact).\n\nProcédure d’inscription:\nAprès ton inscr
 iption\, nous t’enverrons une facture que tu pourras régler par viremen
 t\, PayPal ou en espèces. Seules les factures payées donnent droit à la
  participation au stage.\n\nConditions d’annulation:\nJusqu’à 30 jour
 s avant: remboursement de 50 %\nJusqu’à 14 jours avant: remboursement d
 e 25 %\nEnsuite: malheureusement aucun remboursement possible\n\nContact: 
 d.heinen1989@gmail.com\n\nOrganisateur:\nKarate Club Tanuki Hosingen\nAvec
  le soutien de: Kleiner Wald Karateschule Konz\n\nAuf dem Programm: Soft-B
 locks\nFreitag\, 19.09.2025\nUhrzeit:18:00 – 19:00 Uhr für Kinder von 8
 -13 Jahren\nOrt: Centre Sportif Parc Hosingen\n\nWas erwartet dich?\nTakaf
 umi Nakayama Sensei (7. Dan) zeigt eine alte Art der Verteidigung\, bei de
 r Blocken und Schlagen gleichzeitig passiert. Und gibt uns damit einen Ein
 blick in die Welt des Shorin Ryu Karate.\n\nGut zu wissen:\nKeine Vorkennt
 nisse nötog\nDas Seminar ist offen für alle – egal welche Stilrichtung
  oder Kampfkunst.\nMitbringen:\nKarate-Gi oder bequeme Sportkleidung\nSpra
 che:\nEnglisch – Fragen auch auf Deutsch\, Französisch oder Luxemburgis
 ch möglich.\n\nSeminarkosten\nFrühbucherpreis: 10 EUR - für Kinder und 
 Jugendliche (bis 13 Jahre)\nRegulärer Preis: 15 EUR - für Kinder und Jug
 endliche (bis 13 Jahre) – ab: 01.09.2025\nBeim besuch mehrerer Seminare:
  bitte vorab melden (siehe Kontakt)\n\nBuchungsvorgang:\nNach Deiner Anmel
 dung senden wir Dir eine Rechnung zu\, die Du per Überweisung\, PayPal od
 er in bar bezahlen kannst. Nur bezahlte Rechnungen berechtigen zur Teilnah
 me an dem Seminar.\nStornierungsbedingungen:\nBis zu 30 Tage vorher: 50% R
 ückerstattung\nBis zu 14 Tage vorher: 25% Rückerstattung\nDanach: leider
  keine Rückerstattung\n\nKontakt: d.heinen1989@gmail.com\n\nVeranstalter:
 \nKarate Club Tanuki Hosingen\nMit Unterstützung von: Kleiner Wald Karate
 schule Konz
CATEGORIES:physical
LOCATION:Centre scolaire et sportif „Parc Housen“\, 4b\, Parc \, Hosing
 en\,  L-9836\, Luxembourg
GEO:49.994111;6.098813
X-APPLE-STRUCTURED-LOCATION;VALUE=URI;X-ADDRESS=4b\, Parc \, Hosingen\,  
 L-9836\, Luxembourg;X-APPLE-RADIUS=100;X-TITLE=Centre scolaire et sportif 
 „Parc Housen“:geo:49.994111,6.098813
END:VEVENT
BEGIN:VTIMEZONE
TZID:Europe/Berlin
X-LIC-LOCATION:Europe/Berlin
BEGIN:DAYLIGHT
DTSTART:20250330T030000
TZOFFSETFROM:+0100
TZOFFSETTO:+0200
TZNAME:CEST
END:DAYLIGHT
END:VTIMEZONE
END:VCALENDAR