BEGIN:VCALENDAR
VERSION:2.0
PRODID:-//wp-events-plugin.com//7.2.3.1//EN
TZID:Europe/Berlin
X-WR-TIMEZONE:Europe/Berlin
BEGIN:VEVENT
UID:8@shorinryu.org
DTSTART;TZID=Europe/Rome;VALUE=DATE:20230528
DTEND;TZID=Europe/Rome;VALUE=DATE:20230529
DTSTAMP:20230216T111205Z
URL:https://shorinryu.org/events/5-seminario-nazionale-del-karate-e-del-ko
 budo-tradizionali-di-okinawa/
SUMMARY:5° Seminario nazionale del Karate e del Kobudo Tradizionali di Oki
 nawa
DESCRIPTION:It is an all day Okinawan Karate and Kobudo seminar. Karatekas 
 can train with teachers of Shorin-ryu\, Matsumura Shorin-ryu\, Goju-ryu\, 
 Uechi-ryu and Ryukyu Kobudo. Last year seminar video here: https://youtu.b
 e/qNgqXK6PYKY
CATEGORIES:physical
LOCATION:Settimo torinese\, via Cascina nuova 32\, Settimo torinese\, Torin
 o\, 10036\, Piemonte\, Italy
GEO:45.149048;7.770617
X-APPLE-STRUCTURED-LOCATION;VALUE=URI;X-ADDRESS=via Cascina nuova 32\, Sett
 imo torinese\, Torino\, 10036\, Piemonte\, Italy;X-APPLE-RADIUS=100;X-TITL
 E=Settimo torinese:geo:45.149048,7.770617
END:VEVENT
BEGIN:VTIMEZONE
TZID:Europe/Rome
X-LIC-LOCATION:Europe/Rome
BEGIN:DAYLIGHT
DTSTART:20230326T030000
TZOFFSETFROM:+0100
TZOFFSETTO:+0200
TZNAME:CEST
END:DAYLIGHT
END:VTIMEZONE
END:VCALENDAR