BEGIN:VCALENDAR
VERSION:2.0
PRODID:-//wp-events-plugin.com//7.2.3.1//EN
TZID:Europe/Berlin
X-WR-TIMEZONE:Europe/Berlin
BEGIN:VEVENT
UID:12@shorinryu.org
DTSTART;TZID=Europe/Berlin;VALUE=DATE:20230401
DTEND;TZID=Europe/Berlin;VALUE=DATE:20230403
DTSTAMP:20230224T132243Z
URL:https://shorinryu.org/events/das-erste-seminar-mit-takeshi-uema-sensei
 -in-deutschland-shubukan-de-frankfurt-am-main/
SUMMARY:Das erste Seminar mit Takeshi Uema Sensei in Deutschland - Shubukan
  DE - Frankfurt am Main
DESCRIPTION:Unter Leitung von\nUema Takeshi Sensei\nShorin Ryu Shubukan\nUe
 ma Dojo\nShuri\, Okinawa\nSa.\, 1. April / So.\, 2. April 2023\nBei Intere
 sse bitte E-Mail an\nokinawa.karate@shubukan.de\nwww.shubukan.de facebook.
 com/shubukan.de
ATTACH;FMTTYPE=image/jpeg:https://shorinryu.org/wp-content/uploads/2023/02
 /takeshi_seminar_jicin.jpg
CATEGORIES:physical
LOCATION:Walter-Richter-Halle\, Schäfflestraße 20\, Frankfurt am Main\, H
 essen\, 60386 \, Germany
GEO:50.129408;8.733497
X-APPLE-STRUCTURED-LOCATION;VALUE=URI;X-ADDRESS=Schäfflestraße 20\, Frank
 furt am Main\, Hessen\, 60386 \, Germany;X-APPLE-RADIUS=100;X-TITLE=Walter
 -Richter-Halle:geo:50.129408,8.733497
END:VEVENT
BEGIN:VTIMEZONE
TZID:Europe/Berlin
X-LIC-LOCATION:Europe/Berlin
BEGIN:DAYLIGHT
DTSTART:20230326T030000
TZOFFSETFROM:+0100
TZOFFSETTO:+0200
TZNAME:CEST
END:DAYLIGHT
END:VTIMEZONE
END:VCALENDAR