BEGIN:VCALENDAR
VERSION:2.0
PRODID:-//wp-events-plugin.com//7.2.3.1//EN
TZID:Europe/Berlin
X-WR-TIMEZONE:Europe/Berlin
BEGIN:VEVENT
UID:14@shorinryu.org
DTSTART;TZID=Europe/Berlin:20231008T090000
DTEND;TZID=Europe/Berlin:20231008T180000
DTSTAMP:20230916T105750Z
URL:https://shorinryu.org/events/karate-kobudo-seminar-takafumi-taka-nakay
 ama/
SUMMARY:Karate & Kobudo seminar: Takafumi 'Taka' Nakayama
DESCRIPTION:Sensei Takafumi\, 7. Dan Shorin-Ryu Shidokan\, unterrichtet Sof
 t-blocks und Yamani-Ryu Kobudo.
CATEGORIES:physical
LOCATION:TG-Halle Sportpark Konz\, Hermann-Reinholz-Straße 1\, Konz\, 5432
 9\, Germany
GEO:49.693498;6.584746
X-APPLE-STRUCTURED-LOCATION;VALUE=URI;X-ADDRESS=Hermann-Reinholz-Straße 1\
 , Konz\, 54329\, Germany;X-APPLE-RADIUS=100;X-TITLE=TG-Halle Sportpark Kon
 z:geo:49.693498,6.584746
END:VEVENT
BEGIN:VTIMEZONE
TZID:Europe/Berlin
X-LIC-LOCATION:Europe/Berlin
BEGIN:DAYLIGHT
DTSTART:20230326T030000
TZOFFSETFROM:+0100
TZOFFSETTO:+0200
TZNAME:CEST
END:DAYLIGHT
END:VTIMEZONE
END:VCALENDAR