BEGIN:VCALENDAR
VERSION:2.0
PRODID:-//wp-events-plugin.com//7.2.3.1//EN
TZID:Europe/Berlin
X-WR-TIMEZONE:Europe/Berlin
BEGIN:VEVENT
UID:27@shorinryu.org
DTSTART;TZID=Europe/Berlin:20250920T090000
DTEND;TZID=Europe/Berlin:20250920T133000
DTSTAMP:20250825T154403Z
URL:https://shorinryu.org/events/karate-seminar-fur-kinder-takafumi-taka-n
 akayama/
SUMMARY:Karate-Seminar für Kinder: Takafumi 'Taka' Nakayama
DESCRIPTION:Sensei Takafumi\, 7. Dan Shorin-Ryu Shidokan\, unterrichtet Sof
 t-blocks und Yamani-Ryu Kobudo.
CATEGORIES:physical
LOCATION:Blandine-Merten-Realschule\, Bernhardstraße 26\, Trier\, 54295\, 
 Germany
GEO:49.744664;6.640517
X-APPLE-STRUCTURED-LOCATION;VALUE=URI;X-ADDRESS=Bernhardstraße 26\, Trier\
 , 54295\, Germany;X-APPLE-RADIUS=100;X-TITLE=Blandine-Merten-Realschule:ge
 o:49.744664,6.640517
END:VEVENT
BEGIN:VTIMEZONE
TZID:Europe/Berlin
X-LIC-LOCATION:Europe/Berlin
BEGIN:DAYLIGHT
DTSTART:20250330T030000
TZOFFSETFROM:+0100
TZOFFSETTO:+0200
TZNAME:CEST
END:DAYLIGHT
END:VTIMEZONE
END:VCALENDAR