BEGIN:VCALENDAR
VERSION:2.0
PRODID:-//wp-events-plugin.com//7.2.3.1//EN
TZID:Europe/Berlin
X-WR-TIMEZONE:Europe/Berlin
BEGIN:VEVENT
UID:20@shorinryu.org
DTSTART;TZID=Europe/Berlin;VALUE=DATE:20240628
DTEND;TZID=Europe/Berlin;VALUE=DATE:20240630
DTSTAMP:20240513T074537Z
URL:https://shorinryu.org/events/lehrgang-mit-tamayose-hanshi/
SUMMARY:Lehrgang mit Tamayose Hanshi
DESCRIPTION:Ryukyu Shorinryu Karatedo Tesshinkan\n\nGrundlagen: Kihon-Kata-
 Kumite\, Kobudo\, Kata und Bunkai\, Alte Kata: Passai\, Chinto\, Kushanku\
 n\nmit dem Großmeister Tamayose Hanshi aus Okinawa 10. Dan Karate und 10.
  Dan Kobudo\n\nAnmeldung und Information: info@kobudo-friedberg.de
CATEGORIES:physical
LOCATION:Steinkopfsporthalle\, Friedberger Straße  96\,\, Friedberg-Ocksta
 dt\, Hessen\, 61169\, Wetterau \, Germany
GEO:50.332818;8.727601
X-APPLE-STRUCTURED-LOCATION;VALUE=URI;X-ADDRESS=Friedberger Straße  96\,\,
  Friedberg-Ockstadt\, Hessen\, 61169\, Wetterau \, Germany;X-APPLE-RADIUS=
 100;X-TITLE=Steinkopfsporthalle:geo:50.332818,8.727601
END:VEVENT
BEGIN:VTIMEZONE
TZID:Europe/Berlin
X-LIC-LOCATION:Europe/Berlin
BEGIN:DAYLIGHT
DTSTART:20240331T030000
TZOFFSETFROM:+0100
TZOFFSETTO:+0200
TZNAME:CEST
END:DAYLIGHT
END:VTIMEZONE
END:VCALENDAR