BEGIN:VCALENDAR
VERSION:2.0
PRODID:-//wp-events-plugin.com//7.2.3.1//EN
TZID:Europe/Berlin
X-WR-TIMEZONE:Europe/Berlin
BEGIN:VEVENT
UID:35@shorinryu.org
DTSTART;TZID=Europe/Berlin;VALUE=DATE:20250913
DTEND;TZID=Europe/Berlin;VALUE=DATE:20250915
DTSTAMP:20250812T104059Z
URL:https://shorinryu.org/events/okinawa-karate-seminar-frankfurt-am-main-
 with-jan-gyuris/
SUMMARY:Okinawa Karate Seminar Frankfurt am Main with Jan Gyuris
DESCRIPTION:PDF: 2025JanGyurisSenseiFrankfurt\n\nAnsprechpartner:\nRoman K
 řapka\nE-Mail: okinawa.karate@shubukan.de\nMobil: +420 777 621 120\nJan G
 yuris 7. Dan\nShorin Ryu Shubukan Gyuris Dojo\n(Vertreter von Shuri Karate
  Kobudo Hozonkai in Tschechien)
CATEGORIES:physical
END:VEVENT
BEGIN:VTIMEZONE
TZID:Europe/Berlin
X-LIC-LOCATION:Europe/Berlin
BEGIN:DAYLIGHT
DTSTART:20250330T030000
TZOFFSETFROM:+0100
TZOFFSETTO:+0200
TZNAME:CEST
END:DAYLIGHT
END:VTIMEZONE
END:VCALENDAR