BEGIN:VCALENDAR
VERSION:2.0
PRODID:-//wp-events-plugin.com//7.2.3.1//EN
TZID:Europe/Berlin
X-WR-TIMEZONE:Europe/Berlin
BEGIN:VEVENT
UID:34@shorinryu.org
DTSTART;TZID=Europe/Luxembourg:20250922T183000
DTEND;TZID=Europe/Luxembourg:20250922T203000
DTSTAMP:20250819T074403Z
URL:https://shorinryu.org/events/seminar-mit-takafumi-nakayama-sensei/
SUMMARY:Seminar mit Takafumi Nakayama Sensei
DESCRIPTION:Einmaliges Seminar mit Takafumi Nakayama Sensei \, 7. Dan Shori
 n-Ryu Shidokan.
LOCATION:Gymnase\, rue du centre commercial \, Illange\, 57310\, France
X-APPLE-STRUCTURED-LOCATION;VALUE=URI;X-ADDRESS=rue du centre commercial \,
  Illange\, 57310\, France;X-APPLE-RADIUS=100;X-TITLE=Gymnase:geo:0,0
END:VEVENT
BEGIN:VTIMEZONE
TZID:Europe/Luxembourg
X-LIC-LOCATION:Europe/Luxembourg
BEGIN:DAYLIGHT
DTSTART:20250330T030000
TZOFFSETFROM:+0100
TZOFFSETTO:+0200
TZNAME:CEST
END:DAYLIGHT
END:VTIMEZONE
END:VCALENDAR