BEGIN:VCALENDAR
VERSION:2.0
PRODID:-//wp-events-plugin.com//7.2.3.1//EN
TZID:Europe/Berlin
X-WR-TIMEZONE:Europe/Berlin
BEGIN:VEVENT
UID:13@shorinryu.org
DTSTART;TZID=Europe/Berlin;VALUE=DATE:20230930
DTEND;TZID=Europe/Berlin;VALUE=DATE:20231002
DTSTAMP:20230918T140230Z
URL:https://shorinryu.org/events/shorin-ryu-karate-seminar-with-takafumi-n
 akayama/
SUMMARY:20th anniversary of Roc4: Shorin Ryu Karate Seminar with Takafumi N
 akayama
DESCRIPTION:
CATEGORIES:physical
LOCATION:Roc4\, Ilsenburger Str. 15\, Berlin\, 10589\, Germany
GEO:52.52527;13.310142
X-APPLE-STRUCTURED-LOCATION;VALUE=URI;X-ADDRESS=Ilsenburger Str. 15\, Berli
 n\, 10589\, Germany;X-APPLE-RADIUS=100;X-TITLE=Roc4:geo:52.52527,13.310142
END:VEVENT
BEGIN:VTIMEZONE
TZID:Europe/Berlin
X-LIC-LOCATION:Europe/Berlin
BEGIN:DAYLIGHT
DTSTART:20230326T030000
TZOFFSETFROM:+0100
TZOFFSETTO:+0200
TZNAME:CEST
END:DAYLIGHT
END:VTIMEZONE
END:VCALENDAR