BEGIN:VCALENDAR
VERSION:2.0
PRODID:-//wp-events-plugin.com//7.2.3.1//EN
TZID:Europe/Berlin
X-WR-TIMEZONE:Europe/Berlin
BEGIN:VEVENT
UID:7@shorinryu.org
DTSTART;TZID=Europe/Zurich;VALUE=DATE:20230325
DTEND;TZID=Europe/Zurich;VALUE=DATE:20230327
DTSTAMP:20230131T155042Z
URL:https://shorinryu.org/events/shorin-ryu-shubukan-seminar-with-takeshi-
 uema-sensei/
SUMMARY:Shorin-ryu Shubukan seminar with Takeshi Uema Sensei
DESCRIPTION:Seminar with Takeshi Uema Sensei in Savièse\, Switzerland.\n\n
 Seminar for adults and children\, advanced and beginner levels.\n\n&nbsp\;
 \n\nMore information: https://kcconthey.ch/stage-de-karate-shorin-ryu-shub
 ukan-7/
CATEGORIES:physical
LOCATION:Savièse\, route du stade Halle des Fêtes - St Germain\, Savièse
 \, 1965\, Switzerland
GEO:46.251175;7.349158
X-APPLE-STRUCTURED-LOCATION;VALUE=URI;X-ADDRESS=route du stade Halle des F
 êtes - St Germain\, Savièse\, 1965\, Switzerland;X-APPLE-RADIUS=100;X-TI
 TLE=Savièse:geo:46.251175,7.349158
END:VEVENT
BEGIN:VTIMEZONE
TZID:Europe/Zurich
X-LIC-LOCATION:Europe/Zurich
BEGIN:STANDARD
DTSTART:20221030T020000
TZOFFSETFROM:+0200
TZOFFSETTO:+0100
TZNAME:CET
END:STANDARD
BEGIN:DAYLIGHT
DTSTART:20230326T030000
TZOFFSETFROM:+0100
TZOFFSETTO:+0200
TZNAME:CEST
END:DAYLIGHT
END:VTIMEZONE
END:VCALENDAR