BEGIN:VCALENDAR
VERSION:2.0
PRODID:-//wp-events-plugin.com//7.2.3.1//EN
TZID:Europe/Berlin
X-WR-TIMEZONE:Europe/Berlin
BEGIN:VEVENT
UID:5@shorinryu.org
DTSTART;TZID=Europe/Berlin:20230915T100000
DTEND;TZID=Europe/Berlin:20230916T180000
DTSTAMP:20230913T054107Z
URL:https://shorinryu.org/events/shubukan-dojo-frankfurt-seminar-2/
SUMMARY:Shubukan Dojo Frankfurt Seminar
DESCRIPTION:Shubukan seminar with Jan Gyuris from Shorin Ryu Shubukan Uema 
 Karate Do\, Czech Republic
CATEGORIES:physical
LOCATION:Paulinum an der Friedberger Warte\, Valentin-Senger-Str. 136a\, Fr
 ankfurt\, Germany
GEO:50.14068;8.700666
X-APPLE-STRUCTURED-LOCATION;VALUE=URI;X-ADDRESS=Valentin-Senger-Str. 136a\,
  Frankfurt\, Germany;X-APPLE-RADIUS=100;X-TITLE=Paulinum an der Friedberge
 r Warte:geo:50.14068,8.700666
END:VEVENT
BEGIN:VTIMEZONE
TZID:Europe/Berlin
X-LIC-LOCATION:Europe/Berlin
BEGIN:DAYLIGHT
DTSTART:20230326T030000
TZOFFSETFROM:+0100
TZOFFSETTO:+0200
TZNAME:CEST
END:DAYLIGHT
END:VTIMEZONE
END:VCALENDAR