BEGIN:VCALENDAR
VERSION:2.0
PRODID:-//wp-events-plugin.com//7.2.3.1//EN
TZID:Europe/Berlin
X-WR-TIMEZONE:Europe/Berlin
BEGIN:VEVENT
UID:10@shorinryu.org
DTSTART;TZID=Europe/Berlin;VALUE=DATE:20230401
DTEND;TZID=Europe/Berlin;VALUE=DATE:20230403
DTSTAMP:20230220T115550Z
URL:https://shorinryu.org/events/shubukan-seminar-with-uema-takeshi-sensei
 -in-frankfurt-main-germany/
SUMMARY:Shubukan seminar with Uema Takeshi sensei in Frankfurt/Main (German
 y)
DESCRIPTION:\n\nUema Takeshi Sensei's first seminar in Frankfurt/Main\n\n\n
 \n\n\nSend a mail to okinawa.karate@shubukan.de in order to plan your part
 icipation\n\n\n\n\n\n\n\n&nbsp\;\n\nwww.shubukan.de  -  facebook.com/shu
 bukan.de\n\n\n\n\n\n\n\n
ATTACH;FMTTYPE=image/jpeg:https://shorinryu.org/wp-content/uploads/2023/02
 /uema_takeshi_sensei.jpg
CATEGORIES:physical
LOCATION:Paulinum an der Friedberger Warte\, Valentin-Senger-Str. 136a\, Fr
 ankfurt\, Germany
GEO:50.14068;8.700666
X-APPLE-STRUCTURED-LOCATION;VALUE=URI;X-ADDRESS=Valentin-Senger-Str. 136a\,
  Frankfurt\, Germany;X-APPLE-RADIUS=100;X-TITLE=Paulinum an der Friedberge
 r Warte:geo:50.14068,8.700666
END:VEVENT
BEGIN:VTIMEZONE
TZID:Europe/Berlin
X-LIC-LOCATION:Europe/Berlin
BEGIN:DAYLIGHT
DTSTART:20230326T030000
TZOFFSETFROM:+0100
TZOFFSETTO:+0200
TZNAME:CEST
END:DAYLIGHT
END:VTIMEZONE
END:VCALENDAR