BEGIN:VCALENDAR
VERSION:2.0
PRODID:-//wp-events-plugin.com//7.2.3.1//EN
TZID:Europe/Berlin
X-WR-TIMEZONE:Europe/Berlin
BEGIN:VEVENT
UID:1@shorinryu.org
DTSTART;TZID=Europe/Berlin:20230121T100000
DTEND;TZID=Europe/Berlin:20230121T120000
DTSTAMP:20230128T230255Z
URL:https://shorinryu.org/events/softblock-seminar-1-3-with-takafumi-nakay
 ama/
SUMMARY:Softblock seminar (1/3) with Takafumi Nakayama
DESCRIPTION:Softblock seminar with Takafumi 'Taka' Nakayama from Fukuoka Sh
 ido-kan
CATEGORIES:hybrid
LOCATION:Okinawa Shorin-Ryu Karate-Do Konz\, Im Weerberg 2a\, Konz\, 54329\
 , Germany
GEO:49.692079;6.570754
X-APPLE-STRUCTURED-LOCATION;VALUE=URI;X-ADDRESS=Im Weerberg 2a\, Konz\, 543
 29\, Germany;X-APPLE-RADIUS=100;X-TITLE=Okinawa Shorin-Ryu Karate-Do Konz:
 geo:49.692079,6.570754
END:VEVENT
BEGIN:VTIMEZONE
TZID:Europe/Berlin
X-LIC-LOCATION:Europe/Berlin
BEGIN:STANDARD
DTSTART:20221030T020000
TZOFFSETFROM:+0200
TZOFFSETTO:+0100
TZNAME:CET
END:STANDARD
END:VTIMEZONE
END:VCALENDAR