BEGIN:VCALENDAR
VERSION:2.0
PRODID:-//wp-events-plugin.com//7.2.3.1//EN
TZID:Europe/Berlin
X-WR-TIMEZONE:Europe/Berlin
BEGIN:VEVENT
UID:23@shorinryu.org
DTSTART;TZID=Europe/Rome:20240928T100000
DTEND;TZID=Europe/Rome:20240928T160000
DTSTAMP:20240603T112619Z
URL:https://shorinryu.org/events/taka-in-italy/
SUMMARY:Karate seminar: Takafumi 'Taka' Nakayama
DESCRIPTION:Sensei Takafumi\, 7. Dan Shorin-Ryu Shidokan\, unterrichtet Sof
 t-blocks und Yamani-Ryu Kobudo.
CATEGORIES:physical
LOCATION:Settimo torinese\, via Cascina nuova 32\, Settimo torinese\, Torin
 o\, 10036\, Piemonte\, Italy
GEO:45.149048;7.770617
X-APPLE-STRUCTURED-LOCATION;VALUE=URI;X-ADDRESS=via Cascina nuova 32\, Sett
 imo torinese\, Torino\, 10036\, Piemonte\, Italy;X-APPLE-RADIUS=100;X-TITL
 E=Settimo torinese:geo:45.149048,7.770617
END:VEVENT
BEGIN:VTIMEZONE
TZID:Europe/Rome
X-LIC-LOCATION:Europe/Rome
BEGIN:DAYLIGHT
DTSTART:20240331T030000
TZOFFSETFROM:+0100
TZOFFSETTO:+0200
TZNAME:CEST
END:DAYLIGHT
END:VTIMEZONE
END:VCALENDAR