BEGIN:VCALENDAR
VERSION:2.0
PRODID:-//wp-events-plugin.com//7.2.3.1//EN
TZID:Europe/Berlin
X-WR-TIMEZONE:Europe/Berlin
BEGIN:VEVENT
UID:22@shorinryu.org
DTSTART;TZID=Europe/Berlin:20240930T180000
DTEND;TZID=Europe/Berlin:20240930T210000
DTSTAMP:20240530T090314Z
URL:https://shorinryu.org/events/taka-in-orscholz/
SUMMARY:Karate seminar: Takafumi 'Taka' Nakayama
DESCRIPTION:Sensei Takafumi\, 7. Dan Shorin-Ryu Shidokan\, unterrichtet Sof
 t-blocks
CATEGORIES:physical
LOCATION:Turnverein 1921 Orscholz e.V.\, Saarbrücker Straße 17 \, Orschol
 z\, 66693\, Germany
GEO:49.50865;6.532585
X-APPLE-STRUCTURED-LOCATION;VALUE=URI;X-ADDRESS=Saarbrücker Straße 17 \, 
 Orscholz\, 66693\, Germany;X-APPLE-RADIUS=100;X-TITLE=Turnverein 1921 Orsc
 holz e.V.:geo:49.50865,6.532585
END:VEVENT
BEGIN:VTIMEZONE
TZID:Europe/Berlin
X-LIC-LOCATION:Europe/Berlin
BEGIN:DAYLIGHT
DTSTART:20240331T030000
TZOFFSETFROM:+0100
TZOFFSETTO:+0200
TZNAME:CEST
END:DAYLIGHT
END:VTIMEZONE
END:VCALENDAR