BEGIN:VCALENDAR
VERSION:2.0
PRODID:-//wp-events-plugin.com//7.2.3.1//EN
TZID:Europe/Berlin
X-WR-TIMEZONE:Europe/Berlin
BEGIN:VEVENT
UID:28@shorinryu.org
DTSTART;TZID=Europe/Berlin:20250713T140000
DTEND;TZID=Europe/Berlin:20250713T153000
DTSTAMP:20250710T063729Z
URL:https://shorinryu.org/events/taka-online-summer-seminar-2025/
SUMMARY:Taka online summer seminar
DESCRIPTION:Content: We’ll focus on relaxation and efficient power genera
 tion\, using the Naihanchi katas and some bunkai as our practice tools.\n\
 nPlease bring a tennis ball or similar sized ball of some sort. Thanks!\n\
 n&nbsp\;\n\nThis is an online seminar with the support of local groups. Fo
 r Konz/Trier and around\, let's meet at 13:30 at kanso kan in Konz.\n\nOth
 er dojos participate as well and surely accept visitors.\n\nInterested? Se
 nd a mail to info@shorinryu.org to book your place.\n\n&nbsp\;\n\nDate: Ju
 ly 13th\nTime: 9:00PM(Japanese Time)\n- Konz\, Germany: 2:00PM\n- Chicago\
 , America: 7:00AM\n- Manila\, Philippines: 8:00PM\n- Melbourne\, Australia
 : 10:00PM\n- Santiago\, Chile: 8:00AM\n- India: 5:30PM\n\n&nbsp\;
CATEGORIES:hybrid,virtual
LOCATION:Okinawa Shorin-Ryu Karate-Do Konz\, Im Weerberg 2a\, Konz\, 54329\
 , Germany
GEO:49.692079;6.570754
X-APPLE-STRUCTURED-LOCATION;VALUE=URI;X-ADDRESS=Im Weerberg 2a\, Konz\, 543
 29\, Germany;X-APPLE-RADIUS=100;X-TITLE=Okinawa Shorin-Ryu Karate-Do Konz:
 geo:49.692079,6.570754
END:VEVENT
BEGIN:VTIMEZONE
TZID:Europe/Berlin
X-LIC-LOCATION:Europe/Berlin
BEGIN:DAYLIGHT
DTSTART:20250330T030000
TZOFFSETFROM:+0100
TZOFFSETTO:+0200
TZNAME:CEST
END:DAYLIGHT
END:VTIMEZONE
END:VCALENDAR