BEGIN:VCALENDAR
VERSION:2.0
PRODID:-//wp-events-plugin.com//7.2.3.1//EN
TZID:Europe/Berlin
X-WR-TIMEZONE:Europe/Berlin
BEGIN:VEVENT
UID:36@shorinryu.org
DTSTART;TZID=Europe/Brussels:20250916T180000
DTEND;TZID=Europe/Brussels:20250916T210000
DTSTAMP:20250820T135543Z
URL:https://shorinryu.org/events/taka-tour-2025-belgium/
SUMMARY:Taka Tour 2025 - Belgium
DESCRIPTION:Heartbeat of Karate\n\nDate: September 16th 2025.\n\nTime: 18:0
 0 - 21:00\n\nLocation: CC De Borre\, Bierbeek\, Belgium\n\n🇯🇵 Sensei
  Takafumi “Taka” Nakayama (7th Dan Shorin-Ryu) with student Kokoro\n\n
 What you’ll get in just 3 hours:\n\n🥋 Softblocks: stay relaxed but st
 rike with power\n\n🪄 Exclusive Demo: Yamani-Ryu Kobudo (Bo)\n\n🔥 A o
 nce-in-a-lifetime chance – open to all styles\, beginners &amp\; advance
 d.\n\nRegister via our form\n\nOrganized by: Filip Swennen – SFDOJO - Ri
 shinjuku Karate Belgium
END:VEVENT
BEGIN:VTIMEZONE
TZID:Europe/Brussels
X-LIC-LOCATION:Europe/Brussels
BEGIN:DAYLIGHT
DTSTART:20250330T030000
TZOFFSETFROM:+0100
TZOFFSETTO:+0200
TZNAME:CEST
END:DAYLIGHT
END:VTIMEZONE
END:VCALENDAR