BEGIN:VCALENDAR
VERSION:2.0
PRODID:-//wp-events-plugin.com//7.2.3.1//EN
TZID:Europe/Berlin
X-WR-TIMEZONE:Europe/Berlin
BEGIN:VEVENT
UID:15@shorinryu.org
DTSTART;TZID=Europe/Rome:20231005T183000
DTEND;TZID=Europe/Rome:20231005T203000
DTSTAMP:20230919T072625Z
URL:https://shorinryu.org/events/takafumi-nakayama-seminar-in-turin-torino
 /
SUMMARY:Takafumi Nakayama seminar in Turin (Torino)
DESCRIPTION:Description:\nSensei Takafumi ‘Taka’ Nakayama\, 7th Dan Sho
 rin-Ryu Shido-kan Karate\, from Nakayama Dojo in Fukuoka\, Japan\, will be
  a guest in Europe for a jam-packed Karate road trip. On the stop in Italy
 \, the seminar’s focus will be on soft block techniques.\n\nSensei Takaf
 umi Nakayama will be teaching a gentle Suidi blocking exercise in the old 
 style\, emphasizing simultaneous striking while intercepting the attack. S
 uidi soft blocks need to be felt to be properly understood\, as it’s not
  just about deflecting a strike\, as most believe. It requires years of pr
 actice to skillfully employ them\, but afterwards\, one can turn the attac
 ker’s force against them.\n\nAbout Sensei Takafumi:\nTakafumi Sensei lea
 rned Karate from his father\, Masanori Nakayama Sensei\, and several other
  renowned Karate teachers such as Katsuya Miyahira Sensei\, Seikichi Iha S
 ensei\, Koichi Nakasone Sensei\, and Abet Presincula Sensei. Sensei Taka i
 s an open-minded individual who loves Karate and imparts his knowledge who
 leheartedly. For him\, there are no boundaries in Karate.\n\nSchedule:\n18
 :30 - 20:30 Seminar with Takafumi Nakayama\n\nRequirements:\nThis seminar 
 is designed to be cross-style – all martial arts practitioners can benef
 it from the day. Previous experience in Karate soft blocks or Kobudo is no
 t necessary for this course and will not be a hindrance.\n\nEquipment:\nWe
  practice in Karate-gi. Newcomers or returning participants can also join 
 in comfortable sportswear. If possible\, participants can bring a Bo. We c
 an provide a limited number of Bos\, please inquire and reserve in advance
 .\n\nLanguage:\nThe seminar will be conducted in English. Questions will b
 e possible in Italian\, Japanese\, German and English\n\nOrganizer:\nThis 
 seminar is co-organized by: Settimo Torinese\, Italy and Kleiner Wald\, Ge
 rmany\n\n&nbsp\;\n\nInfo: okk.segreteria@yahoo.it
CATEGORIES:physical
LOCATION:Settimo torinese\, via Cascina nuova 32\, Settimo torinese\, Torin
 o\, 10036\, Piemonte\, Italy
GEO:45.149048;7.770617
X-APPLE-STRUCTURED-LOCATION;VALUE=URI;X-ADDRESS=via Cascina nuova 32\, Sett
 imo torinese\, Torino\, 10036\, Piemonte\, Italy;X-APPLE-RADIUS=100;X-TITL
 E=Settimo torinese:geo:45.149048,7.770617
END:VEVENT
BEGIN:VTIMEZONE
TZID:Europe/Rome
X-LIC-LOCATION:Europe/Rome
BEGIN:DAYLIGHT
DTSTART:20230326T030000
TZOFFSETFROM:+0100
TZOFFSETTO:+0200
TZNAME:CEST
END:DAYLIGHT
END:VTIMEZONE
END:VCALENDAR